BEGIN:VCALENDAR
VERSION:2.0
PRODID:-//ASHE Kansas City Section - ECPv6.15.18//NONSGML v1.0//EN
CALSCALE:GREGORIAN
METHOD:PUBLISH
X-WR-CALNAME:ASHE Kansas City Section
X-ORIGINAL-URL:https://kansascity.ashe.pro
X-WR-CALDESC:Events for ASHE Kansas City Section
REFRESH-INTERVAL;VALUE=DURATION:PT1H
X-Robots-Tag:noindex
X-PUBLISHED-TTL:PT1H
BEGIN:VTIMEZONE
TZID:America/Chicago
BEGIN:DAYLIGHT
TZOFFSETFROM:-0600
TZOFFSETTO:-0500
TZNAME:CDT
DTSTART:20250309T080000
END:DAYLIGHT
BEGIN:STANDARD
TZOFFSETFROM:-0500
TZOFFSETTO:-0600
TZNAME:CST
DTSTART:20251102T070000
END:STANDARD
BEGIN:DAYLIGHT
TZOFFSETFROM:-0600
TZOFFSETTO:-0500
TZNAME:CDT
DTSTART:20260308T080000
END:DAYLIGHT
BEGIN:STANDARD
TZOFFSETFROM:-0500
TZOFFSETTO:-0600
TZNAME:CST
DTSTART:20261101T070000
END:STANDARD
BEGIN:DAYLIGHT
TZOFFSETFROM:-0600
TZOFFSETTO:-0500
TZNAME:CDT
DTSTART:20270314T080000
END:DAYLIGHT
BEGIN:STANDARD
TZOFFSETFROM:-0500
TZOFFSETTO:-0600
TZNAME:CST
DTSTART:20271107T070000
END:STANDARD
END:VTIMEZONE
BEGIN:VEVENT
DTSTART;TZID=America/Chicago:20260407T113000
DTEND;TZID=America/Chicago:20260407T130000
DTSTAMP:20260423T022438
CREATED:20260315T223855Z
LAST-MODIFIED:20260327T161208Z
UID:87-1775561400-1775566800@kansascity.ashe.pro
SUMMARY:ASHE KC - US-69 Express Presentation
DESCRIPTION:Steve Rockers (KDOT) will be presenting on the US-69 Express Project. All are welcome – consultants\, contractors\, city and state employees\, and others working in the transportation industry. Attendees will earn one PDH.
URL:https://kansascity.ashe.pro/index.php/event/ashe-kc-top-golf-example/
LOCATION:Burns & McDonnell\, 901 Carondelet Drive\, Kansas City\, MO\, 64114\, United States
ORGANIZER;CN="ASHE Kansas City Chapter":MAILTO:ashekcsection@gmail.com
END:VEVENT
END:VCALENDAR